BEGIN:VCALENDAR
VERSION:2.0
PRODID:-//道産子ビズ - ECPv5.7.1//NONSGML v1.0//EN
CALSCALE:GREGORIAN
METHOD:PUBLISH
X-WR-CALNAME:道産子ビズ
X-ORIGINAL-URL:https://dosanko-biz.com
X-WR-CALDESC:道産子ビズ のイベント
BEGIN:VTIMEZONE
TZID:Asia/Tokyo
BEGIN:STANDARD
TZOFFSETFROM:+0900
TZOFFSETTO:+0900
TZNAME:JST
DTSTART:20260101T000000
END:STANDARD
END:VTIMEZONE
BEGIN:VEVENT
DTSTART;VALUE=DATE:20260419
DTEND;VALUE=DATE:20260511
DTSTAMP:20260420T065526
CREATED:20260419T112759Z
LAST-MODIFIED:20260419T112759Z
UID:2780-1776556800-1778457599@dosanko-biz.com
SUMMARY:【27卒・28卒】就活スタート面談会＆模擬面接会｜大手企業出身者が対応
DESCRIPTION:大手企業を重視している方向けに、「大手企業出身者や現役社員による就活相談・模擬面接イベント」を開催いたします。 \n「就活を始める28卒の方」や、「これから選考を控える27卒の方」など幅広い方が参加可能な内容です。 \n道内の支援実績はもちろんございますが、道内外問わず書類・面接・GDなど支援可能です。 \n「何から始めても不安」「大手企業向けの就活対策を進めたい」「本番前に模擬面接を待ちたい」といった方に向けて、今の状況に合わせた形で実施予定です。 \n参加希望や興味のある方は、ぜひお気軽にお申し込みください！ \nイベントに申し込む \n主な内容\n\n模擬面接\n就活相談\n書類添削\nその他お悩みに応じたご相談\n\nなど \n  \nこんな方におすすめ\n\n面接の実践を通じて選考通過率を上げたい方\n就活の疑問点を解消したい方\n\nなど \n＜【限定特典】選考対策シート&Webテスト傾向シート配布！＞\n \n  \n開催概要\n\n\n\nイベント名\n【27卒・28卒】就活スタート面談会＆模擬面接会｜大手企業出身者が対応\n\n\n開催場所\nオンライン（Zoom）接続用URL・ID・パスワードは、弊社より別途メール等でご案内いたします。\n\n\n開催日時\nフォームに記載いただいた希望日程より、別途メール等で調整いたします。\n\n\n対象年度\n2027年・2028年3月までに大学・大学院を卒業または卒業見込みの方\n\n\n申込締切\n定員に達し次第終了\n\n\n参加費用\n無料\n\n\n準備する物\n\n\nインターネット接続が安定した環境\nPC／タブレット端末／スマートフォン\n\n\n\n\n服装\n自由（私服でかまいません）\n\n\nお問い合わせ\ninfo@flatech.co.jp\n\n\n\nイベントに申し込む
URL:https://dosanko-biz.com/event/job-interview_260419/
LOCATION:オンライン
ATTACH;FMTTYPE=image/png:https://dosanko-biz.com/wp-content/uploads/2026/04/6ebbd108aab153aaffc1262b38429dd0.png
END:VEVENT
END:VCALENDAR